BEGIN:VCALENDAR
VERSION:2.0
PRODID:-//wp-events-plugin.com//7.2.3.1//EN
TZID:Pacific/Auckland
X-WR-TIMEZONE:Pacific/Auckland
BEGIN:VEVENT
UID:10347@gleanreport.com
DTSTART;TZID=Pacific/Auckland;VALUE=DATE:20260429
DTEND;TZID=Pacific/Auckland;VALUE=DATE:20260501
DTSTAMP:20260328T234723Z
URL:https://www.gleanreport.com/events/agriculture-climate-change-conferen
 ce-2/
SUMMARY:New Zealand agriculture & climate change conference *WGTN or ONLINE
 *
DESCRIPTION:More information
CATEGORIES:Online,Wellington
LOCATION: Tākina Wellington Convention & Exhibition Centre\, 50 Cable Stre
 et\, Te Aro\, 50 Cable Street\, Te Aro\, New Zealand
X-APPLE-STRUCTURED-LOCATION;VALUE=URI;X-ADDRESS=50 Cable Street\, Te Aro\, 
 New Zealand;X-APPLE-RADIUS=100;X-TITLE=Tākina Wellington Convention & Exh
 ibition Centre\, 50 Cable Street\, Te Aro:geo:0,0
END:VEVENT
BEGIN:VTIMEZONE
TZID:Pacific/Auckland
X-LIC-LOCATION:Pacific/Auckland
BEGIN:STANDARD
DTSTART:20260405T020000
TZOFFSETFROM:+1300
TZOFFSETTO:+1200
TZNAME:NZST
END:STANDARD
END:VTIMEZONE
END:VCALENDAR