BEGIN:VCALENDAR
VERSION:2.0
PRODID:-//wp-events-plugin.com//7.2.3.1//EN
TZID:Pacific/Auckland
X-WR-TIMEZONE:Pacific/Auckland
BEGIN:VEVENT
UID:10345@gleanreport.com
DTSTART;TZID=Pacific/Auckland:20260428T173000
DTEND;TZID=Pacific/Auckland:20260428T190000
DTSTAMP:20260329T064306Z
URL:https://www.gleanreport.com/events/anna-high-2/
SUMMARY:Dignity and law. A lecture by Anna High *ONLINE*
DESCRIPTION:More information
CATEGORIES:Online,Wellington
END:VEVENT
BEGIN:VTIMEZONE
TZID:Pacific/Auckland
X-LIC-LOCATION:Pacific/Auckland
BEGIN:STANDARD
DTSTART:20260405T020000
TZOFFSETFROM:+1300
TZOFFSETTO:+1200
TZNAME:NZST
END:STANDARD
END:VTIMEZONE
END:VCALENDAR