BEGIN:VCALENDAR
VERSION:2.0
PRODID:-//wp-events-plugin.com//7.2.3.1//EN
TZID:Pacific/Auckland
X-WR-TIMEZONE:Pacific/Auckland
BEGIN:VEVENT
UID:9954@gleanreport.com
DTSTART;TZID=Pacific/Auckland;VALUE=DATE:20251031
DTEND;TZID=Pacific/Auckland;VALUE=DATE:20251101
DTSTAMP:20251003T233404Z
URL:https://www.gleanreport.com/events/aviation-in-nzs-future/
SUMMARY:Aviation in NZ’s future. A symposium *IN PERSON*
DESCRIPTION:More information
CATEGORIES:Wellington
LOCATION: The Grand Hall\, Parliament Buildings\, Parliament\, Wellington\,
  New Zealand
X-APPLE-STRUCTURED-LOCATION;VALUE=URI;X-ADDRESS=Parliament\, Wellington\, N
 ew Zealand;X-APPLE-RADIUS=100;X-TITLE=The Grand Hall\, Parliament Building
 s:geo:0,0
END:VEVENT
BEGIN:VTIMEZONE
TZID:Pacific/Auckland
X-LIC-LOCATION:Pacific/Auckland
BEGIN:DAYLIGHT
DTSTART:20250928T030000
TZOFFSETFROM:+1200
TZOFFSETTO:+1300
TZNAME:NZDT
END:DAYLIGHT
END:VTIMEZONE
END:VCALENDAR