BEGIN:VCALENDAR
VERSION:2.0
PRODID:-//wp-events-plugin.com//7.2.3.1//EN
TZID:Pacific/Auckland
X-WR-TIMEZONE:Pacific/Auckland
BEGIN:VEVENT
UID:9985@gleanreport.com
DTSTART;TZID=Pacific/Auckland:20251104T103000
DTEND;TZID=Pacific/Auckland:20251104T114500
DTSTAMP:20251012T062530Z
URL:https://www.gleanreport.com/events/beverley-lawton-3/
SUMMARY:Eliminating cervical cancer within grasp. A lecture by Beverley Law
 ton *IN PERSON*
DESCRIPTION:More information
CATEGORIES:Wellington
LOCATION: Embassy Theatre\, 10 Kent Terrace\, Wellington\, New Zealand
GEO:-41.2943203;174.78405759999998
X-APPLE-STRUCTURED-LOCATION;VALUE=URI;X-ADDRESS=10 Kent Terrace\, Wellingto
 n\, New Zealand;X-APPLE-RADIUS=100;X-TITLE=Embassy Theatre:geo:-41.2943203
 ,174.78405759999998
END:VEVENT
BEGIN:VTIMEZONE
TZID:Pacific/Auckland
X-LIC-LOCATION:Pacific/Auckland
BEGIN:DAYLIGHT
DTSTART:20250928T030000
TZOFFSETFROM:+1200
TZOFFSETTO:+1300
TZNAME:NZDT
END:DAYLIGHT
END:VTIMEZONE
END:VCALENDAR