BEGIN:VCALENDAR
VERSION:2.0
PRODID:-//wp-events-plugin.com//7.2.3.1//EN
TZID:Pacific/Auckland
X-WR-TIMEZONE:Pacific/Auckland
BEGIN:VEVENT
UID:9763@gleanreport.com
DTSTART;TZID=Pacific/Auckland;VALUE=DATE:20250825
DTEND;TZID=Pacific/Auckland;VALUE=DATE:20250829
DTSTAMP:20250806T075434Z
URL:https://www.gleanreport.com/events/building-a-lasting-legacy/
SUMMARY:Building a lasting legacy: our choice\, their future. A toxicology 
 conference *IN PERSON*
DESCRIPTION:More information
CATEGORIES:Wellington
LOCATION: Wellington\, Wellington\, Wellington\, New Zealand
X-APPLE-STRUCTURED-LOCATION;VALUE=URI;X-ADDRESS=Wellington\, Wellington\, N
 ew Zealand;X-APPLE-RADIUS=100;X-TITLE=Wellington:geo:0,0
END:VEVENT
BEGIN:VTIMEZONE
TZID:Pacific/Auckland
X-LIC-LOCATION:Pacific/Auckland
BEGIN:STANDARD
DTSTART:20250406T020000
TZOFFSETFROM:+1300
TZOFFSETTO:+1200
TZNAME:NZST
END:STANDARD
END:VTIMEZONE
END:VCALENDAR