BEGIN:VCALENDAR
VERSION:2.0
PRODID:-//wp-events-plugin.com//7.2.3.1//EN
TZID:Pacific/Auckland
X-WR-TIMEZONE:Pacific/Auckland
BEGIN:VEVENT
UID:10375@gleanreport.com
DTSTART;TZID=Pacific/Auckland:20260507T120000
DTEND;TZID=Pacific/Auckland:20260507T120000
DTSTAMP:20260408T065839Z
URL:https://www.gleanreport.com/events/chris-vicars-bertrand-salmi/
SUMMARY:A tale of two rivers. A webinar by Chris Vicars & Bertrand Salmi *O
 NLINE*
DESCRIPTION:More information
CATEGORIES:Online,Wellington
END:VEVENT
BEGIN:VTIMEZONE
TZID:Pacific/Auckland
X-LIC-LOCATION:Pacific/Auckland
BEGIN:STANDARD
DTSTART:20260405T020000
TZOFFSETFROM:+1300
TZOFFSETTO:+1200
TZNAME:NZST
END:STANDARD
END:VTIMEZONE
END:VCALENDAR