BEGIN:VCALENDAR
VERSION:2.0
PRODID:-//wp-events-plugin.com//7.2.3.1//EN
TZID:Pacific/Auckland
X-WR-TIMEZONE:Pacific/Auckland
BEGIN:VEVENT
UID:10344@gleanreport.com
DTSTART;TZID=Pacific/Auckland;VALUE=DATE:20260424
DTEND;TZID=Pacific/Auckland;VALUE=DATE:20260428
DTSTAMP:20260328T233006Z
URL:https://www.gleanreport.com/events/city-nature-challenge-4/
SUMMARY:Hoake ki te taiao: city nature challenge. A citizen science event *
 ONLINE*
DESCRIPTION:More information
CATEGORIES:Online,Wellington
END:VEVENT
BEGIN:VTIMEZONE
TZID:Pacific/Auckland
X-LIC-LOCATION:Pacific/Auckland
BEGIN:STANDARD
DTSTART:20260405T020000
TZOFFSETFROM:+1300
TZOFFSETTO:+1200
TZNAME:NZST
END:STANDARD
END:VTIMEZONE
END:VCALENDAR