BEGIN:VCALENDAR
VERSION:2.0
PRODID:-//wp-events-plugin.com//7.2.3.1//EN
TZID:Pacific/Auckland
X-WR-TIMEZONE:Pacific/Auckland
BEGIN:VEVENT
UID:10409@gleanreport.com
DTSTART;TZID=Pacific/Auckland:20260520T173000
DTEND;TZID=Pacific/Auckland:20260520T190000
DTSTAMP:20260417T234615Z
URL:https://www.gleanreport.com/events/elizabeth-ledgerwood/
SUMMARY:A question of balance: how cells manage stress\, ageing and disease
 . A lecture by Elizabeth Ledgerwood *ONLINE*
DESCRIPTION:More information
CATEGORIES:Online,Wellington
END:VEVENT
BEGIN:VTIMEZONE
TZID:Pacific/Auckland
X-LIC-LOCATION:Pacific/Auckland
BEGIN:STANDARD
DTSTART:20260405T020000
TZOFFSETFROM:+1300
TZOFFSETTO:+1200
TZNAME:NZST
END:STANDARD
END:VTIMEZONE
END:VCALENDAR