BEGIN:VCALENDAR
VERSION:2.0
PRODID:-//wp-events-plugin.com//7.2.3.1//EN
TZID:Pacific/Auckland
X-WR-TIMEZONE:Pacific/Auckland
BEGIN:VEVENT
UID:9756@gleanreport.com
DTSTART;TZID=Pacific/Auckland:20250815T160000
DTEND;TZID=Pacific/Auckland:20250815T173000
DTSTAMP:20250806T071907Z
URL:https://www.gleanreport.com/events/ethan-rogacion-and-aria-lal/
SUMMARY:The impact of AI on assessments and student learning at university.
  A seminar by Ethan Rogacion and Aría Lal *IN PERSON*
DESCRIPTION:More information
CATEGORIES:Wellington
LOCATION: RH1209/1210\, Rutherford House\, Victoria University of Wellingto
 n\, Pipitea Campus\, 23 Lambton Quay\, Wellington\, 23 Lambton Quay\, Well
 ington\, New Zealand
X-APPLE-STRUCTURED-LOCATION;VALUE=URI;X-ADDRESS=23 Lambton Quay\, Wellingto
 n\, New Zealand;X-APPLE-RADIUS=100;X-TITLE=RH1209/1210\, Rutherford House\
 , Victoria University of Wellington\, Pipitea Campus\, 23 Lambton Quay\, W
 ellington:geo:0,0
END:VEVENT
BEGIN:VTIMEZONE
TZID:Pacific/Auckland
X-LIC-LOCATION:Pacific/Auckland
BEGIN:STANDARD
DTSTART:20250406T020000
TZOFFSETFROM:+1300
TZOFFSETTO:+1200
TZNAME:NZST
END:STANDARD
END:VTIMEZONE
END:VCALENDAR