BEGIN:VCALENDAR
VERSION:2.0
PRODID:-//wp-events-plugin.com//7.2.3.1//EN
TZID:Pacific/Auckland
X-WR-TIMEZONE:Pacific/Auckland
BEGIN:VEVENT
UID:10394@gleanreport.com
DTSTART;TZID=Pacific/Auckland:20260514T173000
DTEND;TZID=Pacific/Auckland:20260514T190000
DTSTAMP:20260415T062731Z
URL:https://www.gleanreport.com/events/gabrielle-davie/
SUMMARY:Upcycling data: unlocking value in national health datasets. A lect
 ure by Gabrielle Davie *ONLINE*
DESCRIPTION:More information
CATEGORIES:Online,Wellington
END:VEVENT
BEGIN:VTIMEZONE
TZID:Pacific/Auckland
X-LIC-LOCATION:Pacific/Auckland
BEGIN:STANDARD
DTSTART:20260405T020000
TZOFFSETFROM:+1300
TZOFFSETTO:+1200
TZNAME:NZST
END:STANDARD
END:VTIMEZONE
END:VCALENDAR