BEGIN:VCALENDAR
VERSION:2.0
PRODID:-//wp-events-plugin.com//7.2.3.1//EN
TZID:Pacific/Auckland
X-WR-TIMEZONE:Pacific/Auckland
BEGIN:VEVENT
UID:9998@gleanreport.com
DTSTART;TZID=Pacific/Auckland:20251024T120000
DTEND;TZID=Pacific/Auckland:20251024T130000
DTSTAMP:20251015T025434Z
URL:https://www.gleanreport.com/events/ian-hermans-3/
SUMMARY:Vaccines and immunotherapies tailored for T Cell Immunity. A semina
 r by Ian Hermans *IN PERSON or ONLINE*
DESCRIPTION:Malaghan Institute seminar\n\nTitle: VACCINES AND IMMUNOTHERAPI
 ES TAILORED FOR T CELL IMMUNITY\nProf Ian Hermans\nProfessor Hermans will 
 provide an overview of the latest research from the immunotherapy group. T
 his will include background and recent updates on mRNA vaccines tailored f
 or T cell-mediated liver immunity for infectious diseases and cancer. New 
 cancer models and new immunomodulatory drugs to combine with cancer immuno
 therapy will also be discussed.\n\nBio\nResearch background in antigen-pre
 sentation and T cell stimulation\, with an emphasis on developing T cell-b
 ased therapies\, including vaccination\, in vivo immunomodulation and adop
 tive T cell therapy. Holds intellectual property for several T cell-focuss
 ed therapies and vaccines and has been a senior investigator for several c
 linical trials of immunotherapy in cancer patients. Established a GMP manu
 facturing facility for the manufacture of cell-based immunotherapies and m
 ore recently involved in the establishment of a local research pipeline fo
 r RNA-based vaccines and therapeutics.\n\nNote that if you are coming from
  outside the Malaghan Institute\, please allow time to sign-in at receptio
 n for their start at 12pm. Otherwise the hui will also be online via Teams
 . \nMicrosoft Teams\nJoin the meeting now\nMeeting ID: 426 967 970 996 3\n
 Passcode: cU39zL9e\n\n
CATEGORIES:Online,Wellington
LOCATION: Seminar Room\, Malaghan Institute\, VUW\, Central  Services Build
 ing\, Victoria University\, Wellington\, New Zealand
GEO:-41.2911028;174.76845720000006
X-APPLE-STRUCTURED-LOCATION;VALUE=URI;X-ADDRESS=Central  Services Building\
 , Victoria University\, Wellington\, New Zealand;X-APPLE-RADIUS=100;X-TITL
 E=Seminar Room\, Malaghan Institute\, VUW:geo:-41.2911028,174.768457200000
 06
END:VEVENT
BEGIN:VTIMEZONE
TZID:Pacific/Auckland
X-LIC-LOCATION:Pacific/Auckland
BEGIN:DAYLIGHT
DTSTART:20250928T030000
TZOFFSETFROM:+1200
TZOFFSETTO:+1300
TZNAME:NZDT
END:DAYLIGHT
END:VTIMEZONE
END:VCALENDAR