BEGIN:VCALENDAR
VERSION:2.0
PRODID:-//wp-events-plugin.com//7.2.3.1//EN
TZID:Pacific/Auckland
X-WR-TIMEZONE:Pacific/Auckland
BEGIN:VEVENT
UID:1652@gleanreport.com
DTSTART;TZID=Pacific/Auckland:20151203T123000
DTEND;TZID=Pacific/Auckland:20151203T133000
DTSTAMP:20151202T083310Z
URL:https://www.gleanreport.com/events/jaime-lancaster/
SUMMARY:Labor market impacts of local minimum wage ordinances in New Mexico
 . A seminar by Jaime Lancaster
DESCRIPTION:The popularity of City and County minimum wage laws are on the 
 rise in the United States despite the absence of empirical work assessing 
 their impacts.  This paper attempts to expand the available information on
  the effects of local minimum wage ordinances by examining the impact of t
 he 2013 minimum wage ordinances in Albuquerque City and Bernalillo County\
 , New Mexico.  Using fixed effects and difference-in-difference estimation
 \, I find that the law has heterogeneous and sometimes unexpected impacts.
CATEGORIES:Wellington
LOCATION: RH1113 Meeting Room\, Rutherford House\, 23 Lambton Quay\, VUW\, 
 23 Lambton Quay\, Wellington\, New Zealand
GEO:-41.2788499;174.77915689999998
X-APPLE-STRUCTURED-LOCATION;VALUE=URI;X-ADDRESS=23 Lambton Quay\, Wellingto
 n\, New Zealand;X-APPLE-RADIUS=100;X-TITLE=RH1113 Meeting Room\, Rutherfor
 d House\, 23 Lambton Quay\, VUW:geo:-41.2788499,174.77915689999998
END:VEVENT
BEGIN:VTIMEZONE
TZID:Pacific/Auckland
X-LIC-LOCATION:Pacific/Auckland
BEGIN:DAYLIGHT
DTSTART:20150927T030000
TZOFFSETFROM:+1200
TZOFFSETTO:+1300
TZNAME:NZDT
END:DAYLIGHT
END:VTIMEZONE
END:VCALENDAR