BEGIN:VCALENDAR
VERSION:2.0
PRODID:-//wp-events-plugin.com//7.2.3.1//EN
TZID:Pacific/Auckland
X-WR-TIMEZONE:Pacific/Auckland
BEGIN:VEVENT
UID:10188@gleanreport.com
DTSTART;TZID=Pacific/Auckland:20260219T180000
DTEND;TZID=Pacific/Auckland:20260219T190000
DTSTAMP:20260131T065403Z
URL:https://www.gleanreport.com/events/james-renwick-and-jessica-palairet/
SUMMARY:When will we see action on climate change? A talk by James Renwick 
  and Jessica Palairet *IN PERSON or ONLINE*
DESCRIPTION:More information
CATEGORIES:Online,Wellington
LOCATION: two/fiftyseven\, 2/57 Willis Street\, Wellington\, 2/57 Willis St
 reet\, Wellington\, New Zealand
X-APPLE-STRUCTURED-LOCATION;VALUE=URI;X-ADDRESS=2/57 Willis Street\, Wellin
 gton\, New Zealand;X-APPLE-RADIUS=100;X-TITLE=two/fiftyseven\, 2/57 Willis
  Street\, Wellington:geo:0,0
END:VEVENT
BEGIN:VTIMEZONE
TZID:Pacific/Auckland
X-LIC-LOCATION:Pacific/Auckland
BEGIN:DAYLIGHT
DTSTART:20250928T030000
TZOFFSETFROM:+1200
TZOFFSETTO:+1300
TZNAME:NZDT
END:DAYLIGHT
END:VTIMEZONE
END:VCALENDAR