BEGIN:VCALENDAR
VERSION:2.0
PRODID:-//wp-events-plugin.com//7.2.3.1//EN
TZID:Pacific/Auckland
X-WR-TIMEZONE:Pacific/Auckland
BEGIN:VEVENT
UID:10407@gleanreport.com
DTSTART;TZID=Pacific/Auckland:20260519T173000
DTEND;TZID=Pacific/Auckland:20260519T183000
DTSTAMP:20260417T234013Z
URL:https://www.gleanreport.com/events/jamie-jacobs/
SUMMARY:Looking backward and forward: Turnbull House enters its second cent
 ury. A talk by Jamie Jacobs *WGTN or ONLINE*
DESCRIPTION:More information
CATEGORIES:Online,Wellington
LOCATION: National Library Auditorium\, lower ground floor\, Aitken Street\
 , Thorndon.\, Aitken Street\, Thorndon\, New Zealand
X-APPLE-STRUCTURED-LOCATION;VALUE=URI;X-ADDRESS=Aitken Street\, Thorndon\, 
 New Zealand;X-APPLE-RADIUS=100;X-TITLE=National Library Auditorium\, lower
  ground floor\, Aitken Street\, Thorndon.:geo:0,0
END:VEVENT
BEGIN:VTIMEZONE
TZID:Pacific/Auckland
X-LIC-LOCATION:Pacific/Auckland
BEGIN:STANDARD
DTSTART:20260405T020000
TZOFFSETFROM:+1300
TZOFFSETTO:+1200
TZNAME:NZST
END:STANDARD
END:VTIMEZONE
END:VCALENDAR