BEGIN:VCALENDAR
VERSION:2.0
PRODID:-//wp-events-plugin.com//7.2.3.1//EN
TZID:Pacific/Auckland
X-WR-TIMEZONE:Pacific/Auckland
BEGIN:VEVENT
UID:10392@gleanreport.com
DTSTART;TZID=Pacific/Auckland:20260506T120000
DTEND;TZID=Pacific/Auckland:20260506T130000
DTSTAMP:20260415T062014Z
URL:https://www.gleanreport.com/events/jess-berentsen-shaw/
SUMMARY:7 shifts we can make in how we talk about climate disruption. A web
 inar by Jess Berentsen-Shaw *ONLINE*
DESCRIPTION:More information
CATEGORIES:Online,Wellington
END:VEVENT
BEGIN:VTIMEZONE
TZID:Pacific/Auckland
X-LIC-LOCATION:Pacific/Auckland
BEGIN:STANDARD
DTSTART:20260405T020000
TZOFFSETFROM:+1300
TZOFFSETTO:+1200
TZNAME:NZST
END:STANDARD
END:VTIMEZONE
END:VCALENDAR