BEGIN:VCALENDAR
VERSION:2.0
PRODID:-//wp-events-plugin.com//7.2.3.1//EN
TZID:Pacific/Auckland
X-WR-TIMEZONE:Pacific/Auckland
BEGIN:VEVENT
UID:10415@gleanreport.com
DTSTART;TZID=Pacific/Auckland:20260512T120000
DTEND;TZID=Pacific/Auckland:20260512T130000
DTSTAMP:20260422T060124Z
URL:https://www.gleanreport.com/events/jo-hendy-eva-murray-and-rachael-you
 ng/
SUMMARY:NZ Emissions Trading Scheme settings 2026 advice. A webinar by Jo H
 endy\, Eva Murray and Rachael Young *ONLINE*
DESCRIPTION:More information
CATEGORIES:Online,Wellington
END:VEVENT
BEGIN:VTIMEZONE
TZID:Pacific/Auckland
X-LIC-LOCATION:Pacific/Auckland
BEGIN:STANDARD
DTSTART:20260405T020000
TZOFFSETFROM:+1300
TZOFFSETTO:+1200
TZNAME:NZST
END:STANDARD
END:VTIMEZONE
END:VCALENDAR