BEGIN:VCALENDAR
VERSION:2.0
PRODID:-//wp-events-plugin.com//7.2.3.1//EN
TZID:Pacific/Auckland
X-WR-TIMEZONE:Pacific/Auckland
BEGIN:VEVENT
UID:10258@gleanreport.com
DTSTART;TZID=Pacific/Auckland:20260313T160000
DTEND;TZID=Pacific/Auckland:20260313T173000
DTSTAMP:20260225T054318Z
URL:https://www.gleanreport.com/events/laura-mcclure/
SUMMARY:Protecting people in the age of deepfakes. A seminar by Laura McClu
 re *WGTN*
DESCRIPTION:More information
CATEGORIES:Wellington
LOCATION: RH1209/1210\, Rutherford House\, Victoria University of Wellingto
 n\, Pipitea Campus\, 23 Lambton Quay\, Wellington\, 23 Lambton Quay\, Well
 ington\, New Zealand
X-APPLE-STRUCTURED-LOCATION;VALUE=URI;X-ADDRESS=23 Lambton Quay\, Wellingto
 n\, New Zealand;X-APPLE-RADIUS=100;X-TITLE=RH1209/1210\, Rutherford House\
 , Victoria University of Wellington\, Pipitea Campus\, 23 Lambton Quay\, W
 ellington:geo:0,0
END:VEVENT
BEGIN:VTIMEZONE
TZID:Pacific/Auckland
X-LIC-LOCATION:Pacific/Auckland
BEGIN:DAYLIGHT
DTSTART:20250928T030000
TZOFFSETFROM:+1200
TZOFFSETTO:+1300
TZNAME:NZDT
END:DAYLIGHT
END:VTIMEZONE
END:VCALENDAR