BEGIN:VCALENDAR
VERSION:2.0
PRODID:-//wp-events-plugin.com//7.2.3.1//EN
TZID:Pacific/Auckland
X-WR-TIMEZONE:Pacific/Auckland
BEGIN:VEVENT
UID:10367@gleanreport.com
DTSTART;TZID=Pacific/Auckland:20260506T173000
DTEND;TZID=Pacific/Auckland:20260506T190000
DTSTAMP:20260404T003648Z
URL:https://www.gleanreport.com/events/louise-bicknell-3/
SUMMARY:Genetic answers for New Zealand families and beyond. A lecture by L
 ouise Bicknell *ONLINE*
DESCRIPTION:More information
CATEGORIES:Online,Wellington
END:VEVENT
BEGIN:VTIMEZONE
TZID:Pacific/Auckland
X-LIC-LOCATION:Pacific/Auckland
BEGIN:STANDARD
DTSTART:20260405T020000
TZOFFSETFROM:+1300
TZOFFSETTO:+1200
TZNAME:NZST
END:STANDARD
END:VTIMEZONE
END:VCALENDAR