BEGIN:VCALENDAR
VERSION:2.0
PRODID:-//wp-events-plugin.com//7.2.3.1//EN
TZID:Pacific/Auckland
X-WR-TIMEZONE:Pacific/Auckland
BEGIN:VEVENT
UID:10399@gleanreport.com
DTSTART;TZID=Pacific/Auckland:20260428T120000
DTEND;TZID=Pacific/Auckland:20260428T130000
DTSTAMP:20260417T225118Z
URL:https://www.gleanreport.com/events/louise-signal-and-libby-mcnaughton/
SUMMARY:Protecting children from the promotion of alcohol\, junk food and g
 ambling: new evidence and solutions for anyone concerned with children's w
 ellbeing. A webinar by Louise Signal and Libby McNaughton *ONLINE*
DESCRIPTION:More information
CATEGORIES:Online,Wellington
END:VEVENT
BEGIN:VTIMEZONE
TZID:Pacific/Auckland
X-LIC-LOCATION:Pacific/Auckland
BEGIN:STANDARD
DTSTART:20260405T020000
TZOFFSETFROM:+1300
TZOFFSETTO:+1200
TZNAME:NZST
END:STANDARD
END:VTIMEZONE
END:VCALENDAR