BEGIN:VCALENDAR
VERSION:2.0
PRODID:-//wp-events-plugin.com//7.2.3.1//EN
TZID:Pacific/Auckland
X-WR-TIMEZONE:Pacific/Auckland
BEGIN:VEVENT
UID:10395@gleanreport.com
DTSTART;TZID=Pacific/Auckland:20260514T203000
DTEND;TZID=Pacific/Auckland:20260514T213000
DTSTAMP:20260415T063052Z
URL:https://www.gleanreport.com/events/maja-whitaker/
SUMMARY:The psychological appeal of conspiracy thinking. A talk by Maja Whi
 taker *ONLINE*
DESCRIPTION:More information
CATEGORIES:Online,Wellington
END:VEVENT
BEGIN:VTIMEZONE
TZID:Pacific/Auckland
X-LIC-LOCATION:Pacific/Auckland
BEGIN:STANDARD
DTSTART:20260405T020000
TZOFFSETFROM:+1300
TZOFFSETTO:+1200
TZNAME:NZST
END:STANDARD
END:VTIMEZONE
END:VCALENDAR