BEGIN:VCALENDAR
VERSION:2.0
PRODID:-//wp-events-plugin.com//7.2.3.1//EN
TZID:Pacific/Auckland
X-WR-TIMEZONE:Pacific/Auckland
BEGIN:VEVENT
UID:9939@gleanreport.com
DTSTART;TZID=Pacific/Auckland:20251016T090000
DTEND;TZID=Pacific/Auckland:20251016T161500
DTSTAMP:20251001T060938Z
URL:https://www.gleanreport.com/events/measuring-circular-economies/
SUMMARY:Measuring circular economies. A symposium *IN PERSON or ONLINE*
DESCRIPTION:More information
CATEGORIES:Wellington
LOCATION: Te Rau Karamū Marae\, Massey University Wellington Campus\, 5 Ha
 yward Terrace\, Wellington 6021\, 5 Hayward Terrace\, Mt Cook\, Wellington
 \, 6021\, New Zealand
X-APPLE-STRUCTURED-LOCATION;VALUE=URI;X-ADDRESS=5 Hayward Terrace\, Mt Cook
 \, Wellington\, 6021\, New Zealand;X-APPLE-RADIUS=100;X-TITLE=Te Rau Karam
 ū Marae\, Massey University Wellington Campus\, 5 Hayward Terrace\, Welli
 ngton 6021:geo:0,0
END:VEVENT
BEGIN:VTIMEZONE
TZID:Pacific/Auckland
X-LIC-LOCATION:Pacific/Auckland
BEGIN:DAYLIGHT
DTSTART:20250928T030000
TZOFFSETFROM:+1200
TZOFFSETTO:+1300
TZNAME:NZDT
END:DAYLIGHT
END:VTIMEZONE
END:VCALENDAR