BEGIN:VCALENDAR
VERSION:2.0
PRODID:-//wp-events-plugin.com//7.2.3.1//EN
TZID:Pacific/Auckland
X-WR-TIMEZONE:Pacific/Auckland
BEGIN:VEVENT
UID:484@gleanreport.com
DTSTART;TZID=Pacific/Auckland:20140703T193000
DTEND;TZID=Pacific/Auckland:20140703T193000
DTSTAMP:20140629T100925Z
URL:https://www.gleanreport.com/events/mike-gee/
SUMMARY:The art of astrophotography. A presentation by Mike Gee
DESCRIPTION:Mark Gee is an award winning photographer and digital\nvisual e
 ffects artist. He has worked on many high profile\nand Oscar award winning
  feature films. His love of the\nNew Zealand landscape is a big part of th
 e inspiration\nfor his photography. While his images portray a wide\nvarie
 ty of subjects\, in the past few years\nastrophotography has captured Mark
 ’s imagination and\ninterest. In 2013\, Mark won the prestigious Astrono
 my\nPhotographer of the Year. Not only did he win it overall\,\nhe also wo
 n the Earth and Space category and the\nPeople and Space category. Mark’
 s recent short film\nFull Moon Silhouettes also gained international accla
 im\,\nand has been broadcast all over the world by the likes\nof CNN\, the
  BBC and NASA.
CATEGORIES:Wellington
LOCATION: Huntleigh Girl Guiding Centre\, Silverstream Road\, Crofton Downs
 \, 45 Silverstream Road\, Crofton Downs\, New Zealand
GEO:-41.2536605;174.76207380000005
X-APPLE-STRUCTURED-LOCATION;VALUE=URI;X-ADDRESS=45 Silverstream Road\, Crof
 ton Downs\, New Zealand;X-APPLE-RADIUS=100;X-TITLE=Huntleigh Girl Guiding 
 Centre\, Silverstream Road\, Crofton Downs:geo:-41.2536605,174.76207380000
 005
END:VEVENT
BEGIN:VTIMEZONE
TZID:Pacific/Auckland
X-LIC-LOCATION:Pacific/Auckland
BEGIN:STANDARD
DTSTART:20140406T020000
TZOFFSETFROM:+1300
TZOFFSETTO:+1200
TZNAME:NZST
END:STANDARD
END:VTIMEZONE
END:VCALENDAR