BEGIN:VCALENDAR
VERSION:2.0
PRODID:-//wp-events-plugin.com//7.2.3.1//EN
TZID:Pacific/Auckland
X-WR-TIMEZONE:Pacific/Auckland
BEGIN:VEVENT
UID:10384@gleanreport.com
DTSTART;TZID=Pacific/Auckland:20260512T173000
DTEND;TZID=Pacific/Auckland:20260512T200000
DTSTAMP:20260412T074010Z
URL:https://www.gleanreport.com/events/nettalks/
SUMMARY:NetTalks. Six short talks *WGTN*
DESCRIPTION:More information
CATEGORIES:Wellington
LOCATION: two/fiftyseven\, 2/57 Willis Street\, Wellington\, 2/57 Willis St
 reet\, Wellington\, New Zealand
X-APPLE-STRUCTURED-LOCATION;VALUE=URI;X-ADDRESS=2/57 Willis Street\, Wellin
 gton\, New Zealand;X-APPLE-RADIUS=100;X-TITLE=two/fiftyseven\, 2/57 Willis
  Street\, Wellington:geo:0,0
END:VEVENT
BEGIN:VTIMEZONE
TZID:Pacific/Auckland
X-LIC-LOCATION:Pacific/Auckland
BEGIN:STANDARD
DTSTART:20260405T020000
TZOFFSETFROM:+1300
TZOFFSETTO:+1200
TZNAME:NZST
END:STANDARD
END:VTIMEZONE
END:VCALENDAR