BEGIN:VCALENDAR
VERSION:2.0
PRODID:-//wp-events-plugin.com//7.2.3.1//EN
TZID:Pacific/Auckland
X-WR-TIMEZONE:Pacific/Auckland
BEGIN:VEVENT
UID:10417@gleanreport.com
DTSTART;TZID=Pacific/Auckland:20260521T190000
DTEND;TZID=Pacific/Auckland:20260521T200000
DTSTAMP:20260422T060812Z
URL:https://www.gleanreport.com/events/pilar-villamor/
SUMMARY:Do New Zealand’s active faults and volcanoes talk to each other? 
 Insights from 25 years of trenching ancient faults. A lecture by Pilar Vil
 lamor *WGTN*
DESCRIPTION:More information
CATEGORIES:Wellington
LOCATION: Lecture Theatre One (GBLT1)\, Old Government Buildings\, VUW\, Vi
 ctoria University\, Pipitea\, New Zealand
GEO:-41.2787116;174.7791681
X-APPLE-STRUCTURED-LOCATION;VALUE=URI;X-ADDRESS=Victoria University\, Pipit
 ea\, New Zealand;X-APPLE-RADIUS=100;X-TITLE=Lecture Theatre One (GBLT1)\, 
 Old Government Buildings\, VUW:geo:-41.2787116,174.7791681
END:VEVENT
BEGIN:VTIMEZONE
TZID:Pacific/Auckland
X-LIC-LOCATION:Pacific/Auckland
BEGIN:STANDARD
DTSTART:20260405T020000
TZOFFSETFROM:+1300
TZOFFSETTO:+1200
TZNAME:NZST
END:STANDARD
END:VTIMEZONE
END:VCALENDAR