BEGIN:VCALENDAR
VERSION:2.0
PRODID:-//wp-events-plugin.com//7.2.3.1//EN
TZID:Pacific/Auckland
X-WR-TIMEZONE:Pacific/Auckland
BEGIN:VEVENT
UID:10408@gleanreport.com
DTSTART;TZID=Pacific/Auckland:20260520T130000
DTEND;TZID=Pacific/Auckland:20260520T130000
DTSTAMP:20260419T070303Z
URL:https://www.gleanreport.com/events/sarah-herbert-3/
SUMMARY:Calculating hope: how spatial modelling can help us plan strategies
  to protect Aotearoa NZ’s indigenous myrtles from disease. A webinar by 
 Sarah Herbert *ONLINE*
DESCRIPTION:More information
CATEGORIES:Online,Wellington
END:VEVENT
BEGIN:VTIMEZONE
TZID:Pacific/Auckland
X-LIC-LOCATION:Pacific/Auckland
BEGIN:STANDARD
DTSTART:20260405T020000
TZOFFSETFROM:+1300
TZOFFSETTO:+1200
TZNAME:NZST
END:STANDARD
END:VTIMEZONE
END:VCALENDAR