BEGIN:VCALENDAR
VERSION:2.0
PRODID:-//wp-events-plugin.com//7.2.3.1//EN
TZID:Pacific/Auckland
X-WR-TIMEZONE:Pacific/Auckland
BEGIN:VEVENT
UID:10419@gleanreport.com
DTSTART;TZID=Pacific/Auckland:20260424T080000
DTEND;TZID=Pacific/Auckland:20260424T090000
DTSTAMP:20260422T085850Z
URL:https://www.gleanreport.com/events/taynar-simpson/
SUMMARY:The lake that’s a legal person. A webinar by Taynar Simpson *ONLI
 NE*
DESCRIPTION:More information
CATEGORIES:Online,Wellington
END:VEVENT
BEGIN:VTIMEZONE
TZID:Pacific/Auckland
X-LIC-LOCATION:Pacific/Auckland
BEGIN:STANDARD
DTSTART:20260405T020000
TZOFFSETFROM:+1300
TZOFFSETTO:+1200
TZNAME:NZST
END:STANDARD
END:VTIMEZONE
END:VCALENDAR